Workbook

Sheet 申請書兼受諾書
A1: ※黄色網掛け部分は必須入力項目です。入力すると色が消えます。
C4: 研究開発コンサルティング変更申請書兼受諾書
A7: 年 月 日
A9: 九州大学 御中
E11: 申込者
E12: 住所
E13: 法人名
E14: 代表者職名
E15: 氏名 | I15: 印
A18: 下記の研究開発コンサルティング契約について、「国立大学法人九州大学研究開発コンサルティング約款」に同意の上、変更を申し込みます。
A20: 記
A22: １．題目
A25: ２．九州大学受諾日
A28: ３．研究開発コンサルティング担当者（部局・職・氏名） | F28: ＊複数の場合は代表者
A29: 部局
A30: 職
A31: 氏名
A33: ４．変更事項：
B34: 期間の変更（以下に変更後の期間を記入してください）
E36: ～
B38: 経費の変更（別紙を作成してください）
B40: その他の変更（以下に変更内容の詳細を記入してください。受諾書送付先の変更もこちらに記入してください。）
A45: 申し込みいただきました変更後の研究開発コンサルティングを受諾します。
F48: 年 月 日
F49: 福岡県福岡市西区元岡７４４
F50: 国立大学法人九州大学
F51: 総長 赤 司 浩 一 印

Sheet 別紙
B1: ※黄色網掛け部分は必須入力項目です。入力すると色が消えます。
B2: 別紙
B3: （変更後）
B4: 変更後の研究開発コンサルティング費 (金額は全て消費税込／計上しない費目は金額欄に0を入力） | D4: （西 暦） | H4: 年度
D5: 区 分 | G5: 内 訳 | I5: 金額（円）
D6: 直接経費 | E6: 1）コンサルティング料 ※担当者ごとに時間と単価を記入 | G6: ○○教授： 円 （○○時間×○○円） ○○准教授： 円 （○○時間×○○円）
E7: 2）人件費
E8: 3）研究旅費
E9: 4）備品費
E10: 5）消耗品費
E11: 6）その他
E12: 直接経費合計 | I12: =SUM(I6:I11) -> 0
D13: 間接経費 | E13: 直接経費の30％相当額
D14: 年度別小計 | E14: 直接経費合計 + 間接経費 | I14: =I12+I13 -> 0
D15: （西 暦） | H15: 年度
D16: 区 分 | G16: 内 訳 | I16: 金額（円）
D17: 直接経費 | E17: 1）人件費
E18: 2）研究旅費
E19: 3）備品費
E20: 4）消耗品費
E21: 5）その他
E22: 直接経費合計 a | I22: =SUM(I17:I21) -> 0
D23: 知的貢献費 b | G23: □□ □□教授：○○円 ※フルネームをお願いします | I23: 0
D24: 間接経費 c = (a+b) × 30％以上
D25: 年度別小計 a + b + c | I25: =I22+I23+I24 -> 0
D26: （西 暦） | H26: 年度
D27: 区 分 | G27: 内 訳 | I27: 金額（円）
D28: 直接経費 | E28: 1）人件費
E29: 2）研究旅費
E30: 3）備品費
E31: 4）消耗品費
E32: 5）その他
E33: 直接経費合計 a | I33: =SUM(I28:I32) -> 0
D34: 知的貢献費 b | G34: □□ □□教授：○○円 ※フルネームをお願いします | I34: 0
D35: 間接経費 c = (a+b) × 30％以上
D36: 年度別小計 a + b + c | I36: =I33+I34+I35 -> 0
D37: 合計 | I37: =I14+I25+I36 -> 0
B39: （増額分）
B40: （西暦）年度 | D40: 直接経費 | J40: 円
D41: 知的貢献費 | J41: 円
...

Sheet 管理者用シート
A1: No. | B1: 入力日 | C1: 契約締結日 | D1: 契約区分 | E1: 管理番号 | F1: 契約属性 | G1: 非公表 | H1: 国際案件 | I1: 税控除 | J1: 研究題目 | K1: 研究開始日 | L1: 研究終了日 | M1: 研究代表者氏名 | N1: 契約相手先 | O1: 郵便番号 | P1: 住所 | Q1: 所属部署 | R1: 職名 | S1: 担当者（氏名） | T1: 担当者（TEL） | U1: 担当者（FAX） | V1: 担当者（メール） | W1: 事業名 | X1: 事業の所管官庁等 | Y1: 再委託 | Z1: 研究／事業 | AA1: 研究分野 | AB1: 支払方法 | AC1: 分割方法 | AD1: 物品の帰属 | AE1: 備考 | AF1: 研究代表者所属 | AH1: 部局リスト
A2: 1 | B2: =TODAY() -> 46297 | D2: 1 | F2: 変更 | J2: =IF(申請書兼受諾書!A23="","",申請書兼受諾書!A23) | K2: =IF(申請書兼受諾書!A36="","",申請書兼受諾書!A36) | L2: =IF(申請書兼受諾書!G36="","",申請書兼受諾書!G36) | M2: =IF(申請書兼受諾書!B31="","",申請書兼受諾書!B31) | Z2: 1 | AB2: 全額概算払 | AD2: 本学 | AF2: =IF(申請書兼受諾書!B29="","",申請書兼受諾書!B29) | AH2: 人文科学研究院
AA3: ライフサイエンス | AH3: 人間環境学研究院
AA4: 情報通信 | AH4: 人間環境学府附属総合臨床心理センター
B5: 直接経費 | C5: 知的貢献費 | D5: 間接経費 | F5: 個人番号 | G5: 該当教員 | H5: 該当教員部局 | I5: 金額 | J5: 該当年度 | K5: 開始年 | L5: 開始月 | M5: 開始日 | N5: 終了年 | O5: 終了月 | P5: 終了日 | R5: 前回管理番号 | AA5: 環境 | AH5: 法学研究院
K6: =IFERROR(YEAR(K2),"") | L6: =IFERROR(MONTH(K2),"") | M6: =IFERROR(DAY(K2),"") | N6: =IFERROR(YEAR(L2),"") | O6: =IFERROR(MONTH(L2),"") | P6: =IFERROR(DAY(L2),"") | AA6: ナノテクノロジー・材料 | AH6: 法務学府
AA7: エネルギー | AH7: 経済学研究院
AA8: 製造技術 | AH8: 比較社会文化研究院
AA9: フロンティア | AH9: 言語文化研究院
AA10: その他 | AH10: アジア埋蔵文化財研究センター
AH11: 比較社会文化研究院附属浅海底フロンティア研究センター
AH12: 理学研究院
AH13: 総合研究博物館
AH14: アイソトープ統合安全管理センター
AH15: 国際宇宙惑星環境研究センター
AH16: 低温センター
AH17: 先端素粒子物理研究センター
AH18: 数理学研究院
AH19: マス・フォア・インダストリ研究所
AH20: 工学研究院
AH21: システム情報科学研究院
AH22: システムＬＳＩ研究センター
... AH80: 農学部附属演習林
