Workbook

Sheet 契約依頼
I2: 九大○○第○○○号
I3: 令和○年○○月○○日
A5: 総長 殿
I7: ○○○○○○○長
I8: ○ ○ ○ ○
A10: 受託研究の内容変更について
A12: 標記のことについて、下記受託研究の内容変更を承認しましたので報告します。 つきましては、別紙のとおり関係書類を提出しますので、契約手続き方、よろしくお願いします。
A14: 記
B16: 前回契約の管理番号： | L16: ←枝番まで必ず記載してください（例：AJ190001-a04）
B17: =CONCATENATE("研究題目：",別紙１!C4) -> 研究題目： | L17: ←別紙１から自動転記されます。
C20: 本学の研究代表者及び相手機関について以下のとおり確認しました。
C21: 寄附講座教員又は寄附研究部門教員 | G21: □ではない
G22: □である
F23: 相手は寄付元 | G23: □ではない
G24: □である | H24: →別紙３を添付
D27: 担当部課 ○○地区事務部○○係 ○担当者名○ 内線（○○）－○○○○ Email: ○○○○@jimu.kyushu-u.ac.jp

Sheet 別紙１
A1: ※黄色網掛け部分は必須入力項目です。入力すると色が消えます。 ※行の幅は適宜調整してください。
G2: （別紙１）
B4: 研究題目
B6: 研究代表者 | C6: 氏名 | D6: 所属 | E6: 職名
B9: 研究期間の変更 | D9: ※ありの場合は変更後の研究期間を以下に記入
C11: 変更後の研究期間
D12: ～
B14: 研究担当者等の変更 | D14: ※ありの場合は変更内容を以下に記入
C16: 変更後の研究担当者等
C17: 〇研究／事業担当者等の追加／削除、所属部局変更、職名変更等の詳細がわかるように記入してください。研究／事業担当者等を追加する場合は、氏名の他に所属部局と職名も必ず記入してください。 〇研究／事業協力者を追加する場合は、受託研究等規則第２条の定義に該当するか確認してください。 〇国又は独立行政法人が実施する委託事業において参加者リスト等が存在する場合は、「詳細は別紙参加者リストのとおり」等として事業代表者以外の記入を省略可能です。その場合、変更内容を参加者リストの欄外等に記入し、変更内容が明確にわかるようにしてください。
B20: 研究経費の変更 | D20: ※ありの場合は変更後の詳細を以下に記入
C22: 請求方法
C23: 回数
C24: 「その他」の場合の説明
C25: 請求書
B27: 変更後の契約額全体 | F27: （単位：円）
B28: 年度 | C28: 直接経費 | D28: 間接経費 | E28: 知的貢献費 | F28: 合計
B29: 令和〇年度 | F29: =IF(C29="","",C29+D29+E29)
B30: 令和〇年度 | F30: =IF(C30="","",C30+D30+E30)
B31: 令和〇年度 | F31: =IF(C31="","",C31+D31+E31)
B33: うち増額／減額分（減額の場合はマイナスで表示してください） | F33: （単位：円）
B34: 年度 | C34: 直接経費 | D34: 間接経費 | E34: 知的貢献費 | F34: 合計
B35: 令和〇年度 | F35: =IF(C35="","",C35+D35+E35)
B36: 令和〇年度 | F36: =IF(C36="","",C36+D36+E36)
B37: 令和〇年度 | F37: =IF(C37="","",C37+D37+E37)
B38: ※金額は全て消費税込み
B39: ※行は適宜追加・削除してください
B41: その他の変更 | D41: ※ありの場合は変更内容を以下を記入
B45: 特記事項
C46: 九州大学受託研究等規則実施細則に基づき、間接経費を減額・免除申請
C48: 申請する場合の受託研究等規則実施細則の該当条項
C50: 研究の一部を九州大学から他機関等へ再委託
C52: 本受託研究の制度上、他機関等と共同実施変更契約を締結する必要
C53: ※事務処理要領等を確認し、研究代表者と相談の上、記入してください
C55: その他、契約者名で提出が必要な書類
C57: 本学の研究代表者が所属する寄附講座又は寄附研究部門の寄附機関に該当
C59: 直接経費により取得した設備等の帰属
C60: ※本学以外となる場合は、受託研究等規則第１０条ただし書きを適用できる場合のみ
C61: 「その他」の場合の説明
C63: その他特記事項
...

Sheet 別紙２
A1: ※黄色網掛け部分は必須入力項目です。入力すると色が消えます。 ※行の幅は適宜調整してください。 ※再委託先が複数の場合は、適宜シートを複製してください。
G2: （別紙２）
B3: 種別
B5: 契約相手方名称
B7: 研究題目
B9: 研究期間の変更 | D9: ※ありの場合は変更後の研究期間を以下に記入
C11: 変更後の研究期間
D12: ～
B14: 研究経費の変更 | D14: ※ありの場合は変更後の詳細を以下に記入
C16: 変更後の契約額全体 | F16: （単位：円）
C17: 年度 | D17: 直接経費 | E17: 間接経費 | F17: 合計
C18: 令和〇年度 | F18: =IF(D18="","",D18+E18)
C19: 令和〇年度 | F19: =IF(D19="","",D19+E19)
C20: 令和〇年度 | F20: =IF(D20="","",D20+E20)
C22: うち増額／減額分 | F22: （単位：円）
C23: 年度 | D23: 直接経費 | E23: 間接経費 | F23: 合計
C24: 令和〇年度 | F24: =IF(D24="","",D24+E24)
C25: 令和〇年度 | F25: =IF(D25="","",D25+E25)
C26: 令和〇年度 | F26: =IF(D26="","",D26+E26)
C27: ※金額は全て消費税込み
C28: ※行は適宜追加・削除してください
B30: その他の変更 | D30: ※ありの場合は変更内容を以下を記入
B34: 契約相手方事務連絡先
B35: 郵便番号
B36: 住所
B37: 所属部署
B38: 担当者（氏名）
B39: 担当者（TEL）
B40: 担当者（メール）
B42: ※契約相手方の事務担当者へ当該契約の協議が発生する旨を事前に連絡してください。

Sheet 別紙２ (再委託先を追加する場合)
A1: ※黄色網掛け部分は必須入力項目です。入力すると色が消えます。 ※行の幅は適宜調整してください。 ※再委託先が複数の場合は、適宜シートを複製してください。
G2: （別紙２）
B3: 種別
B5: 契約相手方名称
B7: 区 分 | C7: １．申請機関等区分
C8: ２．業種別区分
C9: ３．研究題目：分野別内訳
C10: ４．外資系企業該当の有無
B12: 研究題目
B14: 研究期間 | D14: ～
B16: 研究代表者 | C16: 契約相手方の研究代表者を記入してください。
C17: 氏名 | D17: 所属 | E17: 職名
C18: 【九州大学】
C19: =IF(別紙１!C7="","",別紙１!C7) | D19: =IF(別紙１!D7="","",別紙１!D7) | E19: =IF(別紙１!E7="","",別紙１!E7) | H19: ←別紙１から自動転記されます。
C20: 【契約相手方】
F22: （単位：円）
B23: 研究経費 | C23: 年度 | D23: 直接経費 | E23: 間接経費 | F23: 合計
C24: 令和〇年度 | F24: =IF(D24="","",D24+E24)
C25: 令和〇年度 | F25: =IF(D25="","",D25+E25)
C26: 令和〇年度 | F26: =IF(D26="","",D26+E26)
C27: ※金額は全て消費税込み
C28: ※行は適宜追加・削除してください
B30: 実施場所
B32: 提供物品等
B34: 物品の帰属
B36: 契約相手方事務連絡先
B37: 郵便番号
B38: 住所
B39: 所属部署
B40: 担当者（氏名）
B41: 担当者（TEL）
B42: 担当者（メール）
B44: ※契約相手方の事務担当者へ当該契約の協議が発生する旨を事前に連絡してください。

Sheet 別紙3
A1: ※当該契約以外に本学が関連する契約が存在する場合に添付願います。
G2: （別紙３）
A4: ＜研究実施体制図＞
B6: 記載例）
B26: ※注１．当該研究者が委託先等に提出している計画書等の写しでも可
B27: ※注２．任意の様式（手書き）で可

Sheet 別添
H1: （別添）
B2: １．申請機関等区分 | C2: ①大企業 | E2: 申請機関等区分：中小企業基本法に基づく企業規模の区分け
C3: ②大企業（福岡県内）
C4: ③中堅企業 | E4: ①・②「大企業」
C5: ④中堅企業（福岡県内） | E5: ⑤・⑥の中小企業を除く、従業員数2,000人超の企業
C6: ⑤中小企業
C7: ⑥中小企業（福岡県内） | E7: ③・④「中堅企業」
C8: ⑦独立行政法人 | E8: ⑤・⑥の中小企業を除く、従業員数2,000人以下の企業
C9: ⑧その他公益法人等
C10: ⑨地方公共団体 | E10: ⑤・⑥「中小企業」
C11: ⑩外国政府機関 | E11: 業種分類 | F11: 資本金 | G11: 従業員
C12: ⑪外国企業 | E12: 製造業その他 | F12: ３億円以下 | G12: ３００人以下
C13: ⑫国等機関 | E13: 卸売業 | F13: １億円以下 | G13: １００人以下
C14: ⑬その他 | E14: サービス業 | F14: ５千万円以下 | G14: １００人以下
E15: 小売業 | F15: ５千万円以下 | G15: ５０人以下
E16: 上記の資本金又は従業員数のどちらか一方を満たせば対象となります。
E18: ⑪外国企業
E19: 外国企業とは、外国において設立された法人の支店、営業所などで、会社法（平成17年法律第86号）の規定により日本で登記したものをいいます。なお、国内で設立された会社で、外国人が経営する会社や外国の資本が経営に参加しているいわゆる外資系の会社は、外国企業ではありません。
B21: ２．業種別区分 | C21: ①水産・農林業 | E21: 農業、林業、漁業
C22: ②鉱業 | E22: 鉱業
C23: ③建設業 | E23: 総合工事業、職別工事業、設備工事業
C24: ④製造業 | E24: 食料品製造業、飲料・たばこ・飼料製造業、繊維工業、衣服・その他の繊維製品製造業、木材・木製品製造業、家具・装備品製造業、パルプ・紙・紙加工品製造業、印刷・同関連業、化学工業、石油製品・石炭製品製造業、プラスチック製品製造業、ゴム製品製造業、なめし革・同製品・毛皮製造業、窯業・土石製品製造業、鉄鋼業、非鉄金属製造業、金属製品製造業、一般機械器具製造業、電気機機械器具製造業、情報通信機械器具製造業、電子部品・デバイス製造業、輸送用機械器具製造業、精密機械器具製造業、その他の製造業
C25: ⑤電気・ガス・水道業 | E25: 電気業、ガス業、熱供給業、水道業
C26: ⑥運輸 | E26: 運輸業
C27: ⑦情報通信業 | E27: 通信業、放送業、情報サービス業、インターネット附随サービス業、映像・音声・文字情報製作業
C28: ⑧卸売り・小売業
C29: ⑨金融・保険業
C30: ⑩医療・福祉
C31: ⑪サービス業
C32: ⑫その他
B33: ３．題目：分野別区分 | C33: 【参考】科学技術基本計画（平成１３年３月３０日閣議決定）―抜粋― ①ライフサイエンス分野 ・ プロテオミクス、たんぱく質の立体構造や疾患・薬物反応性遺伝子の解明、それらを基礎とした新薬の開発とオーダーメイド医療や機能性食品の開発等の実現に向けたゲノム科学 ・ 移植・再生医療の高度化のための細胞生物学 ・ 研究開発成果を実用化する臨床医学・医療技術 ・ 食料安全保障や豊かな食生活の確保に貢献するバイオテクノロジーや持続的な生産技術等の食料科学・技術 ・ 脳機能の解明、脳の発達障害や老化の制御、神経関連疾患の克服、脳の原理を利用した情報処理・通信システム開発等の脳科学 ・ 上記の技術革新を支えるとともに、膨大な遺伝子情報等を解析するための情報通信技術との融合によるバイオインフォマティクス 等 ②情報通信分野 ・ ネットワーク上であらゆる活動をストレスなく時間と場所を問わず安全に行うことのできるネットワーク高度化技術 ・ 社会で流通する膨大な情報を高速に分析・処理し、蓄積し、検索できる高度コンピューティング技術 ・ 利用者が複雑な操作やストレスを感じることなく、誰もが情報通信社会の恩恵を受けることができるヒューマンインターフェース技術 ・ 上記を支える共通基盤となるデバイス技術、ソフトウェア技術 等 ③環境分野 ・ 資源の投入、廃棄物等の排出を極小化する生産システムの導入、自然循環機能や生物資源の活用等により、資源の有効利用と廃棄物等の発生抑制を行いつつ資源循環を図る循環型社会を実現する技術 ・ 人の健康や生態系に有害な化学物質のリスクを極小化する技術及び評価・管理する技術 ・ 人類の生存基盤や自然生態系にかかわる地球変動予測及びその成果を活用した社会経済等への影響評価、温室効果ガスの排出最小化・回収などの地球温暖化対策技術 等 ④ナノテクノロジー・材料分野 ・ 情報通信や医療等の基盤となる原子・分子サイズでの物質の構造及び形状の解明・制御や、表面、界面等の制御等の物質・材料技術 ・ 省エネルギー・リサイクル・省資源に応える付加価値の高いエネルギー・環境用物質・材料技術 ・ 安全な生活空間を保障するための安全空間創成材料技術 等 ⑤エネルギー分野 ・ 燃料電池、太陽光発電、バイオマス等の新エネルギー技術、省エネルギー・エネルギー利用高度化技術、核融合技術、次世代の革新的原子力技術、原子力安全技術 等 ⑥ものづくり技術分野 （旧 製造技術分野） ・ 高精度技術、精密部品加工技術、マイクロマシン等の高付加価値極限技術、環境負荷最小化技術、品質管理・製造現場安全確保技術、先進的ものづくり技術（特に情報通信技術・生物原理に立脚したものづくり革新に資する次世代技術）、医療・福祉機器技術 等 ⑦社会基盤分野 ・ 地震防災科学技術、非常時・防災通信技術等の防災・危機管理関連技術、ＩＴＳ（高速道路交通システム）等の情報通信技術を利用した社会基盤技術 等 ⑧フロンティア分野 ・ 高度情報通信社会に貢献する宇宙開発、新たな有用資源の利用を目指した海洋開発 ⑨その他

Sheet 管理者用シート
A1: No. | B1: 入力日 | C1: 管理番号 | D1: 契約区分 | E1: ファイル番号 | F1: 契約属性 | G1: 非公表 | H1: 国際案件 | I1: 税控除 | J1: 研究代表者氏名 | K1: 契約相手先 | L1: 郵便番号 | M1: 住所 | N1: 所属部署 | O1: 担当者（氏名） | P1: 担当者（TEL） | Q1: 担当者（FAX） | R1: 担当者（メール） | S1: 研究題目 | T1: 事業名 | U1: 事業の所管官庁等 | V1: 再委託 | W1: 研究／事業 | X1: 研究分野 | Y1: 研究開始日 | Z1: 研究終了日 | AA1: 支払方法 | AB1: 分割方法 | AC1: 請求書指定方式 | AD1: 契約締結日 | AE1: 物品の帰属 | AF1: 備考 | AG1: 研究代表者所属 | AH1: 国プロ課題番号
A2: 1 | B2: =TODAY() -> 46311 | D2: 1 | E2: =IF(MONTH(B2) >= 4, YEAR(B2), YEAR(B2) - 1) -> 2026 | F2: 変更 | J2: =IF(別紙１!C7="","",別紙１!C7) | L2: =IF(別紙１!C83="","",ASC(別紙１!C83)) | M2: =IF(別紙１!C84="","",別紙１!C84) | N2: =IF(別紙１!C85="","",別紙１!C85) | O2: =IF(別紙１!C86="","",別紙１!C86) | P2: =IF(別紙１!C87="","",ASC(別紙１!C87)) | R2: =IF(別紙１!C88="","",ASC(別紙１!C88)) | S2: =IF(別紙１!C4="","",別紙１!C4) | T2: =IF(別紙１!C70="","",別紙１!C70) | U2: =IF(別紙１!C67="","",別紙１!C67) | V2: 0 | Y2: =別紙１!C12 -> 0 | Z2: =別紙１!E12 -> 0 | AA2: =MATCH(別紙１!D22,AA3:AA5,0) -> #N/A | AB2: =MATCH(別紙１!D23,AB3:AB8,0)-1 -> #N/A | AC2: =IF(別紙１!D25="","",別紙１!D25) | AE2: =MATCH(別紙１!F59,AE3:AE8,0) -> #N/A | AG2: =IF(別紙１!D7="","",別紙１!D7) | AH2: =IF(別紙１!C72="","",別紙１!C72)
F3: 新規 | W3: 研究 | X3: 1.ライフサイエンス | AA3: 全額概算払 | AB3: 総額一括 | AE3: 本学
B4: 直接経費 | C4: 間接経費 | F4: 継続 | W4: 事業 | X4: 2.情報通信 | AA4: 一部概算払 | AB4: 年度毎一括 | AE4: 全て契約相手方（研究期間満了後）
B5: =別紙１!D35 -> 0 | C5: =別紙１!E35 -> 0 | E5: 前回契約 | X5: 3.環境 | AA5: 全額精算払 | AB5: ２分割 | AE5: 全て契約相手方（取得後）
B6: =別紙１!D36 -> 0 | C6: =別紙１!E36 -> 0 | E6: =IF(契約依頼!E16="","",契約依頼!E16) | X6: 4.ナノテクノロジー・材料 | AB6: ３分割 | AE6: 一部契約相手方（研究期間満了後）
B7: =別紙１!D37 -> 0 | C7: =別紙１!E37 -> 0 | X7: 5.エネルギー | AB7: 四半期ごと | AE7: 一部契約相手方（取得後）
X8: 6.製造技術 | AB8: その他 | AE8: その他
X9: 7.社会基盤
X10: 8.フロンティア
X11: 9.その他
B12: 入力日 | C12: 管理番号 | D12: 再委託／共同実施 | E12: ファイル番号 | F12: 契約属性 | K12: 契約相手先 | L12: 郵便番号 | M12: 住所 | N12: 所属部署 | O12: 担当者（氏名） | P12: 担当者（TEL） | R12: 担当者（メール） | Y12: 研究開始日 | Z12: 研究終了日 | AD12: 契約締結日 | AF12: 備考
B13: =TODAY() -> 46311 | C13: AJ | D13: =IF(別紙２!C3="","",別紙２!C3) | F13: 変更 | K13: =IF(別紙２!C5="","",別紙２!C5) | L13: =IF(別紙２!C35="","",別紙２!C35) | M13: =IF(別紙２!C356="","",別紙２!C36) | N13: =IF(別紙２!C37="","",別紙２!C37) | O13: =IF(別紙２!C38="","",別紙２!C38) | P13: =IF(別紙２!C39="","",別紙２!C39) | R13: =IF(別紙２!C40="","",別紙２!C40) | Y13: =別紙２!C12 -> 0 | Z13: =別紙２!C14 -> 0
B15: 直接経費 | C15: 間接経費
B16: =別紙２!D24 -> 0 | C16: =別紙２!E24 -> 0
B17: =別紙２!D25 -> 0 | C17: =別紙２!E25 -> 0
B18: =別紙２!D26 -> 0 | C18: =別紙２!E26 -> 0
